BEGIN:VCALENDAR
VERSION:2.0
PRODID:-//International Center for Law and Religion Studies - ECPv6.15.20//NONSGML v1.0//EN
CALSCALE:GREGORIAN
METHOD:PUBLISH
X-ORIGINAL-URL:https://www.iclrs.org
X-WR-CALDESC:Events for International Center for Law and Religion Studies
REFRESH-INTERVAL;VALUE=DURATION:PT1H
X-Robots-Tag:noindex
X-PUBLISHED-TTL:PT1H
BEGIN:VTIMEZONE
TZID:America/Denver
BEGIN:DAYLIGHT
TZOFFSETFROM:-0700
TZOFFSETTO:-0600
TZNAME:MDT
DTSTART:20180311T090000
END:DAYLIGHT
BEGIN:STANDARD
TZOFFSETFROM:-0600
TZOFFSETTO:-0700
TZNAME:MST
DTSTART:20181104T080000
END:STANDARD
BEGIN:DAYLIGHT
TZOFFSETFROM:-0700
TZOFFSETTO:-0600
TZNAME:MDT
DTSTART:20190310T090000
END:DAYLIGHT
BEGIN:STANDARD
TZOFFSETFROM:-0600
TZOFFSETTO:-0700
TZNAME:MST
DTSTART:20191103T080000
END:STANDARD
BEGIN:DAYLIGHT
TZOFFSETFROM:-0700
TZOFFSETTO:-0600
TZNAME:MDT
DTSTART:20200308T090000
END:DAYLIGHT
BEGIN:STANDARD
TZOFFSETFROM:-0600
TZOFFSETTO:-0700
TZNAME:MST
DTSTART:20201101T080000
END:STANDARD
END:VTIMEZONE
BEGIN:VEVENT
DTSTART;VALUE=DATE:20191001
DTEND;VALUE=DATE:20191005
DTSTAMP:20260423T061816
CREATED:20190820T193550Z
LAST-MODIFIED:20190820T193550Z
UID:12763-1569909600-1570168799@www.iclrs.org
SUMMARY:Latin America Consortium Annual Colloquium
DESCRIPTION:
URL:https://www.iclrs.org/event/latin-america-consortium-annual-colloquium/
LOCATION:National University of Colombia\, Bogota\, Colombia
END:VEVENT
BEGIN:VEVENT
DTSTART;VALUE=DATE:20191006
DTEND;VALUE=DATE:20191010
DTSTAMP:20260423T061816
CREATED:20190820T193906Z
LAST-MODIFIED:20190820T193906Z
UID:12766-1570341600-1570600799@www.iclrs.org
SUMMARY:26th Annual International Law and Religion Symposium\, 'Human Dignity and Religious Freedom: Preventing and Responding to Persecution
DESCRIPTION:
URL:https://www.iclrs.org/event/26th-annual-international-law-and-religion-symposium-human-dignity-and-religious-freedom-preventing-and-responding-to-persecution/
LOCATION:Brigham Young University\, Provo\, Utah\, 84602
END:VEVENT
BEGIN:VEVENT
DTSTART;TZID=America/Denver:20191010T140000
DTEND;TZID=America/Denver:20191010T230000
DTSTAMP:20260423T061816
CREATED:20191227T033344Z
LAST-MODIFIED:20191227T033344Z
UID:13715-1570716000-1570748400@www.iclrs.org
SUMMARY:International Association of Religion Journalists Conference
DESCRIPTION:
URL:https://www.iclrs.org/event/international-association-of-religion-journalists-conference/
END:VEVENT
BEGIN:VEVENT
DTSTART;TZID=America/Denver:20191011T010000
DTEND;TZID=America/Denver:20191011T023000
DTSTAMP:20260423T061816
CREATED:20191004T214557Z
LAST-MODIFIED:20191004T214557Z
UID:13301-1570755600-1570761000@www.iclrs.org
SUMMARY:Religious Liberty Award Dinner
DESCRIPTION:Speaker: Dr. E. Wayne Gaddis\, Sr. \nReligious Liberty Writing Awards to be presented: \n1st: David Spicer (University of Notre Dame Law School – Class of 2020) – “A Compromise Forsaking Religious Freedom?: Reconciling Relations Between the Holy See and China \n2nd: Timothy Bradley (University of Notre Dame Law School – Class of 2020) – “Religious Liberty\, Same-Sex Marriage\, and Antidiscrimination Law \n3rd: Daniel Rankin (University of Texas Law School – Class of 2019) – “The Cost of Religion” \nHonorable Mention: \n\nAustin Blessing (Michigan State) – “An International Comparative Analysis of the Treatment and Recognition of ‘Protest Religions’ and ‘Skepticized Religions’\nTessa Bayly  (Toledo) – “Prayer\, Practice\, Precedent\, and American School Board Meetings”\nJohn Gibbons (Brigham Young University) – “Revisiting the Original Meaning of ‘Free Exercise’ “\nJoe Huu Hien Nguyen (Suffolk) – “The Establishment Clause: The Lemon and Marsh Conflict\, Where Lund and Bormuth Leave Us\, and the Constitutionality of Exclusive Legislator-Led Prayer:
URL:https://www.iclrs.org/event/religious-liberty-award-dinner/
END:VEVENT
BEGIN:VEVENT
DTSTART;TZID=America/Denver:20191011T160000
DTEND;TZID=America/Denver:20191011T170000
DTSTAMP:20260423T061816
CREATED:20191004T214032Z
LAST-MODIFIED:20191014T181822Z
UID:13297-1570809600-1570813200@www.iclrs.org
SUMMARY:“Never Again”: What Can Be Done to Prevent and Address Religious Persecution?
DESCRIPTION:Watch the event here.  \nModerator: Brett Scharffs\, Rex E. Lee Professor of Law and Director\, International Center for Law and Religion Studies\, J. Reuben Clark Law School \nPanelists: \nKristina Arriaga\, Commissioner\, U.S. Commission on International Religious Freedom \nRoger D. Carstens\, Deputy Assistant Secretary\, Bureau of Democracy\, Human Rights and Labor\, U.S. Department of State \nJán Figel’\, E.U. Special Envoy for Freedom of Religion or Belief Outside the E.U.
URL:https://www.iclrs.org/event/never-again-what-can-be-done-to-prevent-and-address-religious-persecution/
LOCATION:Newseum\, Washington\, DC\, United States
END:VEVENT
BEGIN:VEVENT
DTSTART;TZID=America/Denver:20191021T140000
DTEND;TZID=America/Denver:20191030T230000
DTSTAMP:20260423T061816
CREATED:20191105T223500Z
LAST-MODIFIED:20191105T223500Z
UID:13478-1571666400-1572476400@www.iclrs.org
SUMMARY:Central America Regional Conference
DESCRIPTION:Associate Directors Gary Doxey and David Moore and Senior Fellows Denise and Neil Lindberg took part in a week long religious freedom conference that included events and meetings in Guatemala\, Costa Rica\, and Panama. The event\, co- sponsored by the International Center for Law and Religion Studies\, culminated in the signing of an agreement between ICLRS\, The Saint Maria La Antigua Catholic University and the Latin American Consortium for Religious Freedom to work together to promote and protect religious freedom. \nEvents included meetings with various religious leaders\, academics\, and Supreme Court justices\, among others. The delegation spoke at the National Assembly in Costa Rica. Gary Doxey and David Moore were also interviewed on radio and television.
URL:https://www.iclrs.org/event/central-america-regional-conference/
END:VEVENT
BEGIN:VEVENT
DTSTART;VALUE=DATE:20191023
DTEND;VALUE=DATE:20191027
DTSTAMP:20260423T061816
CREATED:20190924T155549Z
LAST-MODIFIED:20190924T155549Z
UID:13003-1571810400-1572069599@www.iclrs.org
SUMMARY:Eastern Europe Regional Conference
DESCRIPTION:
URL:https://www.iclrs.org/event/eastern-europe-regional-conference/
LOCATION:Bishkek\, Kazakhstan
END:VEVENT
BEGIN:VEVENT
DTSTART;TZID=America/Denver:20191023T140000
DTEND;TZID=America/Denver:20191023T230000
DTSTAMP:20260423T061816
CREATED:20191029T215716Z
LAST-MODIFIED:20191029T215716Z
UID:13423-1571839200-1571871600@www.iclrs.org
SUMMARY:Religious Freedom\, the US Constitution and the American Founding
DESCRIPTION:The event held at Oxford was co-sponsored by the Quill Project\, based at Pembroke College\, and by the BYU International Center for Law and Religion Studies. \nElder Quentin Cook of the Quorum of the Twelve Apostles\, The Church of Jesus Christ of Latter-day Saints\, delivered the keynote address titled “The Impact of Religious Freedom on Public Morality.” \nThe distinguished panel was introduced by Dr. Nicholas Cole\, who directs the Quill Project and is a Senior Research Fellow at Pembroke College\, and chaired by Dr. Dominic Burbidge\, Stipendiary Lecturer in Politics at St. Peter’s College and Director of the Canterbury Institute. Panelists included Professor Stephanie Barclay from BYU Law School; Dr. Rodney K. Smith\, Director of the Utah Valley University Center for Constitutional Studies; and Reverend Dr. Andrew Teal\, Chaplain and Fellow and Lecturer in Theology\, Pembroke College\, Oxford. \nTranscript of Elder Cook’s remarks \nNewsroom article \nDeseret News article \n 
URL:https://www.iclrs.org/event/religious-freedom-the-us-constitution-and-the-american-founding/
LOCATION:Pembroke College\, Oxford\, United Kingdom
END:VEVENT
BEGIN:VEVENT
DTSTART;TZID=America/Denver:20191023T140000
DTEND;TZID=America/Denver:20191025T230000
DTSTAMP:20260423T061816
CREATED:20191211T174049Z
LAST-MODIFIED:20191211T174049Z
UID:13633-1571839200-1572044400@www.iclrs.org
SUMMARY:2019 Eastern Europe Regional Conference
DESCRIPTION:“Secularity\, Secularism\, and Religion in the Post-Soviet Space: Historical\, Legal and Philosophical Approaches” \nBishkek\, Kyrgyz Republic \n23-25 of October 2019 \nSponsored by the International Center for Law and Religion Studies\, Kyrgyz-Russian Slavic University\, and the Center for Religious Studies of Kyrgyzstan
URL:https://www.iclrs.org/event/2019-eastern-europe-regional-conference/
END:VEVENT
BEGIN:VEVENT
DTSTART;TZID=America/Denver:20191024T150000
DTEND;TZID=America/Denver:20191024T220000
DTSTAMP:20260423T061816
CREATED:20190924T160018Z
LAST-MODIFIED:20190924T160018Z
UID:13006-1571929200-1571954400@www.iclrs.org
SUMMARY:Second Annual DFW Summit on Religious Freedom
DESCRIPTION:Brett Scharffs to present on Human Dignity as Underpinning for Religious Freedom
URL:https://www.iclrs.org/event/second-annual-dfw-summit-on-religious-freedom/
LOCATION:SMU – Hughes-Trigg Student Center\, Dallas\, TX\, United States
END:VEVENT
END:VCALENDAR