BEGIN:VCALENDAR
VERSION:2.0
PRODID:-//International Center for Law and Religion Studies - ECPv6.15.20//NONSGML v1.0//EN
CALSCALE:GREGORIAN
METHOD:PUBLISH
X-ORIGINAL-URL:https://www.iclrs.org
X-WR-CALDESC:Events for International Center for Law and Religion Studies
REFRESH-INTERVAL;VALUE=DURATION:PT1H
X-Robots-Tag:noindex
X-PUBLISHED-TTL:PT1H
BEGIN:VTIMEZONE
TZID:America/Denver
BEGIN:DAYLIGHT
TZOFFSETFROM:-0700
TZOFFSETTO:-0600
TZNAME:MDT
DTSTART:20190310T090000
END:DAYLIGHT
BEGIN:STANDARD
TZOFFSETFROM:-0600
TZOFFSETTO:-0700
TZNAME:MST
DTSTART:20191103T080000
END:STANDARD
BEGIN:DAYLIGHT
TZOFFSETFROM:-0700
TZOFFSETTO:-0600
TZNAME:MDT
DTSTART:20200308T090000
END:DAYLIGHT
BEGIN:STANDARD
TZOFFSETFROM:-0600
TZOFFSETTO:-0700
TZNAME:MST
DTSTART:20201101T080000
END:STANDARD
BEGIN:DAYLIGHT
TZOFFSETFROM:-0700
TZOFFSETTO:-0600
TZNAME:MDT
DTSTART:20210314T090000
END:DAYLIGHT
BEGIN:STANDARD
TZOFFSETFROM:-0600
TZOFFSETTO:-0700
TZNAME:MST
DTSTART:20211107T080000
END:STANDARD
END:VTIMEZONE
BEGIN:VEVENT
DTSTART;VALUE=DATE:20200217
DTEND;VALUE=DATE:20200305
DTSTAMP:20260423T081907
CREATED:20200218T204413Z
LAST-MODIFIED:20200218T211110Z
UID:14309-1581922800-1583305199@www.iclrs.org
SUMMARY:Law and Religion Course\, NALSAR\, Hyderabad\, India
DESCRIPTION:Professor W. Cole Durham\, Jr. teaches law and religion at NALSAR.
URL:https://www.iclrs.org/event/law-and-religion-course-nalsar-hyderabad-india/
END:VEVENT
BEGIN:VEVENT
DTSTART;TZID=America/Denver:20200224T190000
DTEND;TZID=America/Denver:20200224T210000
DTSTAMP:20260423T081907
CREATED:20200227T222544Z
LAST-MODIFIED:20200227T222544Z
UID:14562-1582570800-1582578000@www.iclrs.org
SUMMARY:American and Caribbean Ambassadors meet to discuss Human Dignity
DESCRIPTION:On February 24\, 2020\, the European Union Office of The Church of Jesus Christ of Latter-day Saints hosted a diplomatic luncheon to discuss the Punta del Este Declaration on Human Dignity for Everyone Everywhere. The event was organised under the auspices of the Mission of the Republic of Honduras to the European Union and the Mission of the Republic of Peru to the European Union.
URL:https://www.iclrs.org/event/american-and-caribbean-ambassadors-meet-to-discuss-human-dignity/
END:VEVENT
END:VCALENDAR