BEGIN:VCALENDAR
VERSION:2.0
PRODID:-//International Center for Law and Religion Studies - ECPv6.15.20//NONSGML v1.0//EN
CALSCALE:GREGORIAN
METHOD:PUBLISH
X-ORIGINAL-URL:https://www.iclrs.org
X-WR-CALDESC:Events for International Center for Law and Religion Studies
REFRESH-INTERVAL;VALUE=DURATION:PT1H
X-Robots-Tag:noindex
X-PUBLISHED-TTL:PT1H
BEGIN:VTIMEZONE
TZID:America/Denver
BEGIN:DAYLIGHT
TZOFFSETFROM:-0700
TZOFFSETTO:-0600
TZNAME:MDT
DTSTART:20180311T090000
END:DAYLIGHT
BEGIN:STANDARD
TZOFFSETFROM:-0600
TZOFFSETTO:-0700
TZNAME:MST
DTSTART:20181104T080000
END:STANDARD
BEGIN:DAYLIGHT
TZOFFSETFROM:-0700
TZOFFSETTO:-0600
TZNAME:MDT
DTSTART:20190310T090000
END:DAYLIGHT
BEGIN:STANDARD
TZOFFSETFROM:-0600
TZOFFSETTO:-0700
TZNAME:MST
DTSTART:20191103T080000
END:STANDARD
BEGIN:DAYLIGHT
TZOFFSETFROM:-0700
TZOFFSETTO:-0600
TZNAME:MDT
DTSTART:20200308T090000
END:DAYLIGHT
BEGIN:STANDARD
TZOFFSETFROM:-0600
TZOFFSETTO:-0700
TZNAME:MST
DTSTART:20201101T080000
END:STANDARD
END:VTIMEZONE
BEGIN:VEVENT
DTSTART;TZID=America/Denver:20191021T140000
DTEND;TZID=America/Denver:20191030T230000
DTSTAMP:20260420T144628
CREATED:20191105T223500Z
LAST-MODIFIED:20191105T223500Z
UID:13478-1571666400-1572476400@www.iclrs.org
SUMMARY:Central America Regional Conference
DESCRIPTION:Associate Directors Gary Doxey and David Moore and Senior Fellows Denise and Neil Lindberg took part in a week long religious freedom conference that included events and meetings in Guatemala\, Costa Rica\, and Panama. The event\, co- sponsored by the International Center for Law and Religion Studies\, culminated in the signing of an agreement between ICLRS\, The Saint Maria La Antigua Catholic University and the Latin American Consortium for Religious Freedom to work together to promote and protect religious freedom. \nEvents included meetings with various religious leaders\, academics\, and Supreme Court justices\, among others. The delegation spoke at the National Assembly in Costa Rica. Gary Doxey and David Moore were also interviewed on radio and television.
URL:https://www.iclrs.org/event/central-america-regional-conference/
END:VEVENT
END:VCALENDAR