BEGIN:VCALENDAR
VERSION:2.0
PRODID:-//International Center for Law and Religion Studies - ECPv6.15.20//NONSGML v1.0//EN
CALSCALE:GREGORIAN
METHOD:PUBLISH
X-WR-CALNAME:International Center for Law and Religion Studies
X-ORIGINAL-URL:https://www.iclrs.org
X-WR-CALDESC:Events for International Center for Law and Religion Studies
REFRESH-INTERVAL;VALUE=DURATION:PT1H
X-Robots-Tag:noindex
X-PUBLISHED-TTL:PT1H
BEGIN:VTIMEZONE
TZID:America/Denver
BEGIN:DAYLIGHT
TZOFFSETFROM:-0700
TZOFFSETTO:-0600
TZNAME:MDT
DTSTART:20180311T090000
END:DAYLIGHT
BEGIN:STANDARD
TZOFFSETFROM:-0600
TZOFFSETTO:-0700
TZNAME:MST
DTSTART:20181104T080000
END:STANDARD
BEGIN:DAYLIGHT
TZOFFSETFROM:-0700
TZOFFSETTO:-0600
TZNAME:MDT
DTSTART:20190310T090000
END:DAYLIGHT
BEGIN:STANDARD
TZOFFSETFROM:-0600
TZOFFSETTO:-0700
TZNAME:MST
DTSTART:20191103T080000
END:STANDARD
BEGIN:DAYLIGHT
TZOFFSETFROM:-0700
TZOFFSETTO:-0600
TZNAME:MDT
DTSTART:20200308T090000
END:DAYLIGHT
BEGIN:STANDARD
TZOFFSETFROM:-0600
TZOFFSETTO:-0700
TZNAME:MST
DTSTART:20201101T080000
END:STANDARD
END:VTIMEZONE
BEGIN:VEVENT
DTSTART;TZID=America/Denver:20191011T160000
DTEND;TZID=America/Denver:20191011T170000
DTSTAMP:20260423T074336
CREATED:20191004T214032Z
LAST-MODIFIED:20191014T181822Z
UID:13297-1570809600-1570813200@www.iclrs.org
SUMMARY:“Never Again”: What Can Be Done to Prevent and Address Religious Persecution?
DESCRIPTION:Watch the event here.  \nModerator: Brett Scharffs\, Rex E. Lee Professor of Law and Director\, International Center for Law and Religion Studies\, J. Reuben Clark Law School \nPanelists: \nKristina Arriaga\, Commissioner\, U.S. Commission on International Religious Freedom \nRoger D. Carstens\, Deputy Assistant Secretary\, Bureau of Democracy\, Human Rights and Labor\, U.S. Department of State \nJán Figel’\, E.U. Special Envoy for Freedom of Religion or Belief Outside the E.U.
URL:https://www.iclrs.org/event/never-again-what-can-be-done-to-prevent-and-address-religious-persecution/
LOCATION:Newseum\, Washington\, DC\, United States
END:VEVENT
END:VCALENDAR