BEGIN:VCALENDAR
VERSION:2.0
PRODID:-//International Center for Law and Religion Studies - ECPv6.15.20//NONSGML v1.0//EN
CALSCALE:GREGORIAN
METHOD:PUBLISH
X-WR-CALNAME:International Center for Law and Religion Studies
X-ORIGINAL-URL:https://www.iclrs.org
X-WR-CALDESC:Events for International Center for Law and Religion Studies
REFRESH-INTERVAL;VALUE=DURATION:PT1H
X-Robots-Tag:noindex
X-PUBLISHED-TTL:PT1H
BEGIN:VTIMEZONE
TZID:America/Denver
BEGIN:DAYLIGHT
TZOFFSETFROM:-0700
TZOFFSETTO:-0600
TZNAME:MDT
DTSTART:20180311T090000
END:DAYLIGHT
BEGIN:STANDARD
TZOFFSETFROM:-0600
TZOFFSETTO:-0700
TZNAME:MST
DTSTART:20181104T080000
END:STANDARD
BEGIN:DAYLIGHT
TZOFFSETFROM:-0700
TZOFFSETTO:-0600
TZNAME:MDT
DTSTART:20190310T090000
END:DAYLIGHT
BEGIN:STANDARD
TZOFFSETFROM:-0600
TZOFFSETTO:-0700
TZNAME:MST
DTSTART:20191103T080000
END:STANDARD
BEGIN:DAYLIGHT
TZOFFSETFROM:-0700
TZOFFSETTO:-0600
TZNAME:MDT
DTSTART:20200308T090000
END:DAYLIGHT
BEGIN:STANDARD
TZOFFSETFROM:-0600
TZOFFSETTO:-0700
TZNAME:MST
DTSTART:20201101T080000
END:STANDARD
END:VTIMEZONE
BEGIN:VEVENT
DTSTART;TZID=America/Denver:20190327T140000
DTEND;TZID=America/Denver:20190328T230000
DTSTAMP:20260425T222637
CREATED:20191227T004137Z
LAST-MODIFIED:20191227T032019Z
UID:13669-1553695200-1553814000@www.iclrs.org
SUMMARY:A Year of Civil Conversations
DESCRIPTION:Associate Director Elizabeth Clark will participate in a panel at the University of Pennsylvania Law School to discuss religious liberty challenges. The panel is part of Interfaith Philadelphia’s year-long civil dialogue series\, A Year of Civil Conversations\, and will take place at the National Constitution Center in Philadelphia.
URL:https://www.iclrs.org/event/a-year-of-civil-conversations/
END:VEVENT
END:VCALENDAR